BEGIN:VCALENDAR
VERSION:2.0
PRODID:-//Nukara - ECPv5.3.0//NONSGML v1.0//EN
CALSCALE:GREGORIAN
METHOD:PUBLISH
X-WR-CALNAME:Nukara
X-ORIGINAL-URL:https://nukarafarm.com.au
X-WR-CALDESC:Events for Nukara
BEGIN:VTIMEZONE
TZID:UTC
BEGIN:STANDARD
TZOFFSETFROM:+0000
TZOFFSETTO:+0000
TZNAME:UTC
DTSTART:20210101T000000
END:STANDARD
END:VTIMEZONE
BEGIN:VEVENT
DTSTART;TZID=UTC:20210421T080000
DTEND;TZID=UTC:20210422T170000
DTSTAMP:20210224T192751
CREATED:20201208T034932Z
LAST-MODIFIED:20201208T034932Z
UID:2428-1618992000-1619110800@nukarafarm.com.au
SUMMARY:All Areas Booked
DESCRIPTION:
URL:https://nukarafarm.com.au/event/all-areas-booked-2/
END:VEVENT
END:VCALENDAR