BEGIN:VCALENDAR
VERSION:2.0
PRODID:-//Nukara - ECPv5.3.0//NONSGML v1.0//EN
CALSCALE:GREGORIAN
METHOD:PUBLISH
X-WR-CALNAME:Nukara
X-ORIGINAL-URL:https://nukarafarm.com.au
X-WR-CALDESC:Events for Nukara
BEGIN:VTIMEZONE
TZID:UTC
BEGIN:STANDARD
TZOFFSETFROM:+0000
TZOFFSETTO:+0000
TZNAME:UTC
DTSTART:20210101T000000
END:STANDARD
END:VTIMEZONE
BEGIN:VEVENT
DTSTART;TZID=UTC:20210409T080000
DTEND;TZID=UTC:20210411T170000
DTSTAMP:20210224T192649
CREATED:20200508T020437Z
LAST-MODIFIED:20200508T020437Z
UID:2355-1617955200-1618160400@nukarafarm.com.au
SUMMARY:All Venues Booked
DESCRIPTION:
URL:https://nukarafarm.com.au/event/all-venues-booked-84/
END:VEVENT
END:VCALENDAR