BEGIN:VCALENDAR
VERSION:2.0
PRODID:-//Nukara - ECPv5.3.0//NONSGML v1.0//EN
CALSCALE:GREGORIAN
METHOD:PUBLISH
X-WR-CALNAME:Nukara
X-ORIGINAL-URL:https://nukarafarm.com.au
X-WR-CALDESC:Events for Nukara
BEGIN:VTIMEZONE
TZID:UTC
BEGIN:STANDARD
TZOFFSETFROM:+0000
TZOFFSETTO:+0000
TZNAME:UTC
DTSTART:20210101T000000
END:STANDARD
END:VTIMEZONE
BEGIN:VEVENT
DTSTART;TZID=UTC:20210227T080000
DTEND;TZID=UTC:20210228T170000
DTSTAMP:20210224T192516
CREATED:20201123T061714Z
LAST-MODIFIED:20201123T061714Z
UID:2422-1614412800-1614531600@nukarafarm.com.au
SUMMARY:Barn Area Booked
DESCRIPTION:
URL:https://nukarafarm.com.au/event/barn-area-booked-46/
END:VEVENT
END:VCALENDAR