BEGIN:VCALENDAR
VERSION:2.0
PRODID:-//Nukara - ECPv5.3.0//NONSGML v1.0//EN
CALSCALE:GREGORIAN
METHOD:PUBLISH
X-WR-CALNAME:Nukara
X-ORIGINAL-URL:https://nukarafarm.com.au
X-WR-CALDESC:Events for Nukara
BEGIN:VTIMEZONE
TZID:UTC
BEGIN:STANDARD
TZOFFSETFROM:+0000
TZOFFSETTO:+0000
TZNAME:UTC
DTSTART:20210101T000000
END:STANDARD
END:VTIMEZONE
BEGIN:VEVENT
DTSTART;TZID=UTC:20210306T080000
DTEND;TZID=UTC:20210308T170000
DTSTAMP:20210224T192618
CREATED:20201231T031258Z
LAST-MODIFIED:20201231T031258Z
UID:2431-1615017600-1615222800@nukarafarm.com.au
SUMMARY:Barn Area Booked
DESCRIPTION:
URL:https://nukarafarm.com.au/event/barn-area-booked-47/
END:VEVENT
END:VCALENDAR